BEGIN:VCALENDAR
VERSION:2.0
PRODID:-//eventon.com NONSGML v1.0//EN
CALSCALE:GREGORIAN
METHOD:PUBLISH
BEGIN:VEVENT
UID:69e8a6f99c6af
DTSTAMP:20260422T124617
DTSTART:20220517
DTEND:20220518
TZID:Europe/Madrid
LOCATION:
SUMMARY:Teatro y Danza "Nosotras la Luna"
DESCRIPTION:Dirigida por: Diego Garrido.  Día Internacional contra la LGTBfobia.\nhttps://www.destinolospalacios.es/events/teatro-y-danza-nosotras-la-luna/
URL:https://www.destinolospalacios.es/events/teatro-y-danza-nosotras-la-luna/
END:VEVENT
END:VCALENDAR