BEGIN:VCALENDAR
VERSION:2.0
PRODID:-//eventon.com NONSGML v1.0//EN
CALSCALE:GREGORIAN
METHOD:PUBLISH
BEGIN:VEVENT
UID:69e8a9d722698
DTSTAMP:20260422T125831
DTSTART:20220721T203000Z
DTEND:20220721T220000Z
TZID:Europe/Madrid
LOCATION:
SUMMARY:Pezciclaje
DESCRIPTION:3ª Edición Este Verano Me Quedo Contigo Destino Los Palacios y Villafranca.  Programa verano 2022. «Pezciclaje» Festival de Títeres Compañía Pequeños Duendes \nhttps://www.destinolospalacios.es/events/pezciclaje-festival-de-titeres/
URL:https://www.destinolospalacios.es/events/pezciclaje-festival-de-titeres/
END:VEVENT
END:VCALENDAR