BEGIN:VCALENDAR
VERSION:2.0
PRODID:-//eventon.com NONSGML v1.0//EN
CALSCALE:GREGORIAN
METHOD:PUBLISH
BEGIN:VEVENT
UID:69e8a65f37768
DTSTAMP:20260422T124343
DTSTART:20220917T100000Z
DTEND:20220917T150000Z
TZID:Europe/Madrid
LOCATION:
SUMMARY:IV Torneo de fútbol 7 entre Casetas
DESCRIPTION:Sábado\,  17 de septiembre de 2022 a las 10:00h Campo Municipal de Fútbol “San Sebastián” PREMIOS: 1º Clasificado 150\, 00€ + trofeo 2º Clasificado 100\, 00€ + trofeo Mas información e inscripciones: Delegación de Festejos\,  Turismo y Comercio en Calle Francisco García García\,  1 Inscripción online pulsando aquí\nhttps://www.destinolospalacios.es/events/iv-torneo-de-futbol-7-entre-casetas/
URL:https://www.destinolospalacios.es/events/iv-torneo-de-futbol-7-entre-casetas/
END:VEVENT
END:VCALENDAR