BEGIN:VCALENDAR
VERSION:2.0
PRODID:-//eventon.com NONSGML v1.0//EN
CALSCALE:GREGORIAN
METHOD:PUBLISH
BEGIN:VEVENT
UID:69e8a2a2518fc
DTSTAMP:20260422T122746
DTSTART:20220925T200000Z
DTEND:20220925T230000Z
TZID:Europe/Madrid
LOCATION:
SUMMARY:ESPECTÁCULO ECUESTRE "ANDALUCÍA A CABALLO"
DESCRIPTION:ESPECTÁCULO ECUESTRE «ANDALUCÍA A CABALLO» DE CARMELO CUEVAS Domingo\,  25 de septiembre de 2022 a las 20:00 h &#8211; Pista de Exhibiciones\nhttps://www.destinolospalacios.es/events/espectaculo-ecuestre-andalucia-a-caballo/
URL:https://www.destinolospalacios.es/events/espectaculo-ecuestre-andalucia-a-caballo/
END:VEVENT
END:VCALENDAR