BEGIN:VCALENDAR
VERSION:2.0
PRODID:-//eventon.com NONSGML v1.0//EN
CALSCALE:GREGORIAN
METHOD:PUBLISH
BEGIN:VEVENT
UID:69e8a293bda97
DTSTAMP:20260422T122731
DTSTART:20221119T123000Z
DTEND:20221119T133000Z
TZID:Europe/Madrid
LOCATION:
SUMMARY:Presentación Calla
DESCRIPTION:Montse Arispón (Sevilla\,  1972). En 2011 publica el cuento para adultos La niña que aprendió a ser pizpireta. La buena acogida y las críticas favorables de este la animan a continuar escribiendo. Empezará a partir de entonces colaboraciones con diferentes medios de comunicación en Utrera (Sevilla). A finales de 2015 comienza una[..]\nhttps://www.destinolospalacios.es/events/presentacion-calla/
URL:https://www.destinolospalacios.es/events/presentacion-calla/
END:VEVENT
END:VCALENDAR