BEGIN:VCALENDAR
VERSION:2.0
PRODID:-//eventon.com NONSGML v1.0//EN
CALSCALE:GREGORIAN
METHOD:PUBLISH
BEGIN:VEVENT
UID:69e8a2bd63fe5
DTSTAMP:20260422T122813
DTSTART:20230406T173000Z
DTEND:20230407T013000Z
TZID:Europe/Madrid
LOCATION:
SUMMARY:Jueves Santo
DESCRIPTION:Antigua y Fervorosa Hermandad y Cofradía de Nazarenos del Santísimo Cristo de la Vera Cruz\,  Nuestro Padre Jesús Cautivo ante Pilato y María Santísima de los Remedios. Descarga el recorrido pulsando aquí Salida (Cruz de Guía): 17:30 h. Parroquia Sagrado Corazón: 19:50 h. Carrera Oficial: 20:45 h. Parroquia Santa María[..]\nhttps://www.destinolospalacios.es/events/jueves-santo-2/
URL:https://www.destinolospalacios.es/events/jueves-santo-2/
END:VEVENT
END:VCALENDAR