BEGIN:VCALENDAR
VERSION:2.0
PRODID:-//eventon.com NONSGML v1.0//EN
CALSCALE:GREGORIAN
METHOD:PUBLISH
BEGIN:VEVENT
UID:69e8a2bd5eea8
DTSTAMP:20260422T122813
DTSTART:20230428T214600Z
DTEND:20230501T230000Z
TZID:Europe/Madrid
LOCATION:
SUMMARY:Cruces de Mayo 2023
DESCRIPTION:𝗖𝗥𝗨𝗖𝗘𝗦 𝗗𝗘 𝗠𝗔𝗬𝗢 𝟮𝟬𝟮𝟯🌺 28\, 29\, 30 𝘥𝘦 𝘢𝘣𝘳𝘪𝘭 𝘺 1 𝘥𝘦 𝘮𝘢𝘺𝘰. Te esperamos en las siguiente localizaciones: 𝗖𝗥𝗨𝗭 𝗘𝗟 𝗥𝗜𝗡𝗖𝗢́𝗡 𝗗𝗘𝗟 𝗔𝗥𝗧𝗘 Calle San Juan de la Cruz. 𝗖𝗥𝗨𝗭 𝗘𝗟 𝗔𝗟𝗠𝗘𝗡𝗗𝗥𝗢 Avda. del Bosque. 𝗖𝗥𝗨𝗭 𝗘𝗟 𝗖𝗔𝗟𝗟𝗘𝗝𝗢́𝗡 𝗗𝗘 𝗟𝗢𝗦 𝗥𝗘𝗖𝗨𝗘𝗥𝗗𝗢𝗦 Calle Velázquez. 𝗖𝗥𝗨𝗭 𝗛𝗨𝗦𝗜𝗟𝗟𝗢 𝗥𝗘𝗔𝗟 Calle Husillo Real. 𝗖𝗥𝗨𝗭 𝗟𝗔 𝗣𝗥𝗜𝗠𝗔𝗩𝗘𝗥𝗔 Calle Dos de Mayo.[..]\nhttps://www.destinolospalacios.es/events/cruces-de-mayo-2023/
URL:https://www.destinolospalacios.es/events/cruces-de-mayo-2023/
END:VEVENT
END:VCALENDAR