BEGIN:VCALENDAR
VERSION:2.0
PRODID:-//eventon.com NONSGML v1.0//EN
CALSCALE:GREGORIAN
METHOD:PUBLISH
BEGIN:VEVENT
UID:69e8a7083f3e5
DTSTAMP:20260422T124632
DTSTART:20250924
DTEND:20250929
TZID:Europe/Madrid
LOCATION:
SUMMARY:FERIA DE LOS PALACIOS Y VILLAFRANCA
DESCRIPTION:FERIA DE LOS PALACIOS Y VILLAFRANCA\nhttps://www.destinolospalacios.es/events/feria-de-los-palacios-y-villafranca/
URL:https://www.destinolospalacios.es/events/feria-de-los-palacios-y-villafranca/
END:VEVENT
END:VCALENDAR