BEGIN:VCALENDAR
VERSION:2.0
PRODID:-//eventon.com NONSGML v1.0//EN
CALSCALE:GREGORIAN
METHOD:PUBLISH
BEGIN:VEVENT
UID:69e8a9b1bd0f1
DTSTAMP:20260422T125753
DTSTART:20251209
DTEND:20251210
TZID:Europe/Madrid
LOCATION:
SUMMARY:INAUGURACIÓN DEL BELÉN MONUMENTAL
DESCRIPTION:INAUGURACIÓN DEL BELÉN MONUMENTAL\nhttps://www.destinolospalacios.es/events/inauguracion-del-belen-monumental/
URL:https://www.destinolospalacios.es/events/inauguracion-del-belen-monumental/
END:VEVENT
END:VCALENDAR